BEGIN:VCALENDAR
VERSION:2.0
PRODID:-//wp-events-plugin.com//7.2.3.1//EN
TZID:Europe/Paris
X-WR-TIMEZONE:Europe/Paris
BEGIN:VEVENT
UID:62@cyclozutkerque.org
DTSTART;TZID=Europe/Paris:20260510T073000
DTEND;TZID=Europe/Paris:20260510T073000
DTSTAMP:20260406T075728Z
URL:https://cyclozutkerque.org/events/la-ronde-de-calais/
SUMMARY:La Ronde de Calais
DESCRIPTION:\nLa ronde de Calais : https://facebook.com/events/s/la-ronde-d
 e-calais-randonnee-c/1210379657897179/\n\nInscriptions :\n\n\nOuverture le
  16 mars 2026 à 00:00\nFermeture le 8 mai 2026 à 00:00\n\n\n
END:VEVENT
BEGIN:VTIMEZONE
TZID:Europe/Paris
X-LIC-LOCATION:Europe/Paris
BEGIN:DAYLIGHT
DTSTART:20260329T030000
TZOFFSETFROM:+0100
TZOFFSETTO:+0200
TZNAME:CEST
END:DAYLIGHT
END:VTIMEZONE
END:VCALENDAR