BEGIN:VCALENDAR
VERSION:2.0
PRODID:-//wp-events-plugin.com//7.2.3.1//EN
TZID:Europe/Paris
X-WR-TIMEZONE:Europe/Paris
BEGIN:VEVENT
UID:8@cyclozutkerque.org
DTSTART:20240616T070000Z
DTEND:20240616T130000Z
DTSTAMP:20240430T044200Z
URL:https://cyclozutkerque.org/events/cappellebrouck/
SUMMARY:Cappelle-brouck
DESCRIPTION:
END:VEVENT
END:VCALENDAR